BEGIN:VCALENDAR
VERSION:2.0
PRODID:-//Honeycomb - ECPv6.2.9//NONSGML v1.0//EN
CALSCALE:GREGORIAN
METHOD:PUBLISH
X-WR-CALNAME:Honeycomb
X-ORIGINAL-URL:https://www.honeycombhifilounge.com
X-WR-CALDESC:Events for Honeycomb
REFRESH-INTERVAL;VALUE=DURATION:PT1H
X-Robots-Tag:noindex
X-PUBLISHED-TTL:PT1H
BEGIN:VTIMEZONE
TZID:UTC
BEGIN:STANDARD
TZOFFSETFROM:+0000
TZOFFSETTO:+0000
TZNAME:UTC
DTSTART:20240101T000000
END:STANDARD
END:VTIMEZONE
BEGIN:VEVENT
DTSTART;TZID=UTC:20240202T210000
DTEND;TZID=UTC:20240203T020000
DTSTAMP:20260421T220856
CREATED:20240121T182643Z
LAST-MODIFIED:20240121T182643Z
UID:585-1706907600-1706925600@www.honeycombhifilounge.com
SUMMARY:James Hart
DESCRIPTION:
URL:https://www.honeycombhifilounge.com/calendar/james-hart/
LOCATION:Honeycomb Hi-Fi Lounge\, 74 5th Avenue S\, Brooklyn\, NY\, 11217\, United States
END:VEVENT
END:VCALENDAR